BEGIN:VCALENDAR
VERSION:2.0
PRODID:-//hacksw/handcal//NONSGML v1.0//EN
BEGIN:VEVENT
SUMMARY:Reunion Comite d'Administration
UID:a61438d2-8c74-4b4a-85ed-183c6e9d5674
DTSTART:20260309T183000Z
DTEND:20260309T193000Z
LOCATION:Gymnase de Gy 1 rue du stade 70700 Gy
CATEGORIES:Administratif
STATUS:
URL;VALUE=URI:https://lfdv70.sportsregions.fr/evenements/2026/03/09/reunion-comite-dadministration-2419156
END:VEVENT
END:VCALENDAR
